BEGIN:VCALENDAR
VERSION:2.0
PRODID:icalendar-ruby
CALSCALE:GREGORIAN
BEGIN:VEVENT
DTSTAMP:20260421T095329Z
UID:4f0b4d05-2921-4f2c-ab6d-88ad57854d6c
DTSTART;VALUE=DATE:20260312
DESCRIPTION:Property ID# 603848\, Locatoin: Harcourts Grenadier 98 Moorhous
 e Avenue\, Time: 11:00AM
SUMMARY:Auction for 
END:VEVENT
END:VCALENDAR
